BEGIN:VCALENDAR
VERSION:2.0
PRODID:-//Squarespace Inc/Squarespace 6//v6//EN
BEGIN:VEVENT
UID:5eff152bf65fdc5e99ba5ece@squarespace.com
DTSTAMP:20200703T112542Z
DTSTART:20191010T230000Z
DTEND:20191011T010000Z
SUMMARY:School Holiday Yoga Playgroup
END:VEVENT
END:VCALENDAR
