BEGIN:VCALENDAR
VERSION:2.0
PRODID:-//Squarespace Inc/Squarespace 6//v6//EN
BEGIN:VEVENT
UID:5eff16bcfc1b3c3e293137d7@squarespace.com
DTSTAMP:20200703T113129Z
DTSTART:20190706T083000Z
DTEND:20190706T103000Z
SUMMARY:Yoga + Wine
END:VEVENT
END:VCALENDAR
