BEGIN:VCALENDAR
VERSION:2.0
PRODID:-//Squarespace Inc/Squarespace 6//v6//EN
BEGIN:VEVENT
UID:5eff15c2837deb5ea5004a3f@squarespace.com
DTSTAMP:20200703T112929Z
DTSTART:20190912T093000Z
DTEND:20190912T123000Z
SUMMARY:Yoga + Wine - an evening for women to gather\, relax &amp\; connect
END:VEVENT
END:VCALENDAR
