BEGIN:VCALENDAR
VERSION:2.0
PRODID:-//Squarespace Inc/Squarespace 6//v6//EN
BEGIN:VEVENT
UID:5eff141c1ccde6142b93b5fd@squarespace.com
DTSTAMP:20200703T112303Z
DTSTART:20200120T230000Z
DTEND:20200121T010000Z
SUMMARY:Bushfire Fundraiser &amp\; Lunch - Yoga Playgroup Wollongong
END:VEVENT
END:VCALENDAR
