BEGIN:VCALENDAR
VERSION:2.0
PRODID:-//Squarespace Inc/Squarespace 6//v6//EN
BEGIN:VEVENT
UID:5eff01db8603197f2e8960a4@squarespace.com
DTSTAMP:20200703T100624Z
DTSTART:20200509T220000Z
DTEND:20200704T110000Z
SUMMARY:Solidarity in Solitude Yoga Retreat (online)
END:VEVENT
END:VCALENDAR
