BEGIN:VCALENDAR
VERSION:2.0
PRODID:-//Squarespace Inc/Squarespace 6//v6//EN
BEGIN:VEVENT
UID:5eff0340cebdc77332e9c8aa@squarespace.com
DTSTAMP:20200703T102250Z
DTSTART:20200511T230000Z
DTEND:20200629T233000Z
SUMMARY:Family Yoga Journey (online)
END:VEVENT
END:VCALENDAR
