BEGIN:VCALENDAR
VERSION:2.0
PRODID:-//Squarespace Inc/Squarespace 6//v6//EN
BEGIN:VEVENT
UID:5eff070b00cd9d2e46fe433a@squarespace.com
DTSTAMP:20200703T111720Z
DTSTART:20200720T100000Z
DTEND:20200928T113000Z
SUMMARY:Slow Yoga Online (Yin + Yoga Nidra)
END:VEVENT
END:VCALENDAR
