BEGIN:VCALENDAR
VERSION:2.0
PRODID:-//Squarespace Inc/Squarespace 6//v6//EN
BEGIN:VEVENT
UID:5eff0a300c84a269fb4661b7@squarespace.com
DTSTAMP:20200703T111525Z
DTSTART:20200720T230000Z
DTEND:20200921T233000Z
SUMMARY:Yoga Playgroup Online (live/on-demand)
END:VEVENT
END:VCALENDAR
