BEGIN:VCALENDAR
VERSION:2.0
PRODID:-//Squarespace Inc/Squarespace 6//v6//EN
BEGIN:VEVENT
UID:5fc36aa99ee0f32b87bf036d@squarespace.com
DTSTAMP:20201129T093506Z
DTSTART:20201019T230000Z
DTEND:20201208T003000Z
SUMMARY:Yoga Playgroup Wollongong - TERM 4 2020
GEO:-34.434164;150.871635
LOCATION:YOGA PLAYGROUP WOLLONGONG\, 29 Byrarong Avenue\, Mangerton\, NSW\, 
 2500\, Australia
END:VEVENT
END:VCALENDAR
