BEGIN:VCALENDAR
VERSION:2.0
PRODID:-//Squarespace Inc/Squarespace 6//v6//EN
BEGIN:VEVENT
UID:5eff0e07d100920c144350fb@squarespace.com
DTSTAMP:20201129T093225Z
DTSTART:20200721T000000Z
DTEND:20200922T013000Z
SUMMARY:Yoga Playgroup Wollongong - TERM 3 2020
GEO:-34.434164;150.871635
LOCATION:YOGA PLAYGROUP WOLLONGONG\, 29 Byrarong Avenue\, Mangerton\, NSW\, 
 2500\, Australia
END:VEVENT
END:VCALENDAR
