BEGIN:VCALENDAR
VERSION:2.0
PRODID:-//Squarespace Inc/Squarespace 6//v6//EN
BEGIN:VEVENT
UID:5ffac17bf96b3c097b56525f@squarespace.com
DTSTAMP:20210125T114514Z
DTSTART:20210201T050000Z
DTEND:20210329T054000Z
SUMMARY:Children's Yoga Classes (4-8 year olds)
GEO:-34.434164;150.871635
LOCATION:Nurtured by Nancy Studio\, 29 Byrarong Avenue\, Mangerton\, NSW\, 
 2500\, Australia
END:VEVENT
END:VCALENDAR
