BEGIN:VCALENDAR
VERSION:2.0
PRODID:-//Squarespace Inc/Squarespace 6//v6//EN
BEGIN:VEVENT
UID:5ffac01bf96b3c097b564830@squarespace.com
DTSTAMP:20210110T085607Z
DTSTART:20210114T230000Z
DTEND:20210115T004500Z
SUMMARY:School Holiday Program
GEO:-34.403068;150.888626
LOCATION:Elonera Montessori
END:VEVENT
END:VCALENDAR
