BEGIN:VCALENDAR
VERSION:2.0
PRODID:-//Squarespace Inc/Squarespace 6//v6//EN
BEGIN:VEVENT
UID:5ffac12ffb26793593c04acc@squarespace.com
DTSTAMP:20210110T085721Z
DTSTART:20210127T230000Z
DTEND:20210128T004000Z
SUMMARY:School Holiday Program
GEO:-34.403068;150.888626
LOCATION:Elonera Montessori
END:VEVENT
END:VCALENDAR
