BEGIN:VCALENDAR
VERSION:2.0
PRODID:-//Squarespace Inc/Squarespace 6//v6//EN
BEGIN:VEVENT
UID:5ffabf0179a6bc1bd6113c53@squarespace.com
DTSTAMP:20210110T095519Z
DTSTART:20210131T230000Z
DTEND:20210329T003000Z
SUMMARY:Yoga Playgroup Wollongong - TERM 1 2021
GEO:-34.434164;150.871635
LOCATION:Nurtured by Nancy\, 29 Byrarong Avenue\, Mangerton\, NSW\, 2500\, 
 Australia
END:VEVENT
END:VCALENDAR
